Workbook

Sheet Meldeformular
B1: INTERNATIONAL TRAINING CAMP BERLIN 2026 | I1: ID-Nr.:
B3: Verein ・ Club | E3: Nation | G3: LV (GER) | I3: Ansprechpartner ・ Contact person
B5: E-Mail | E5: Optional: Telefon ・ Phone | I5: Optional: Steuernummer・Tax / Vat no.
B7: Rechnungsanschrift: Straße, Nr. ・ Billing address: street | E7: PLZ ・Postcode | G7: Ort・City | K7: Land ・ Country
B10: Trainer (Zugang Judomatte)・Coaches (mat access):
C11: Name・Surname | D11: Vorname・First name | H11: Bitte die Meldung im XLSX-Format bearbeiten, speichern und senden an / Please fill in, save as XLSX and send to: itc@judo-verband-berlin.de Meldeschluss/Deadline: 30.11.2025
B12: 1
B13: 2
B14: 3
B15: 4
B16: Anzahl weiterer Begleitpersonen Other accompanying persons | F16: Anzahl Mittagessen Mo. 28.12. (8 EUR je Essen) Number of lunches Mon 28.12. (8 EUR each)
B17: Weitere Begleitpersonen erhalten vor Ort einen Zuschauerpass für die Tribüne. ・ Other accompanying persons receive a spectator pass for the stands on site. | F17: Für Montag kann Mittagessen in der SLZB-Mensa auf dem Gelände bestellt werden. Das Kontingent ist begrenzt.・ Lunch on Monday can be ordered at the SLZB cafeteria on site. Availability is limited.
B19: Athleten・Athletes:
C20: Name・Surname | D20: Vorname・First name | E20: Jahrgang Year | F20: m/w m/f | G20: T1 27.12. 17:00 | H20: T2 28.12. 09:00 | I20: T3 28.12. 14:00 | J20: T4 28.12. 17:30 | K20: T5 29.12. 09:00 | L20: T6 29.12. 13:30 | M20: CODE
B21: 1
B22: 2
B23: 3
B24: 4
B25: 5
B26: 6
B27: 7
B28: 8
B29: 9
B30: 10
B31: 11
B32: 12
... B48: 28
B49: Teilnahme am gesamten Camp: 45 EUR, einzelne Einheiten je 10 EUR. Gewünschte Einheiten mit „1“ markieren. Bei Freikarten-Berechtigung das Kürzel in die Spalte CODE eintragen. Full camp: 45 EUR; individual sessions: 10 EUR each. Mark the desired sessions with “1”.
B52: Bitte beachten Sie folgende wichtige Informationen: 1. Unfall- und Haftpflichtversicherung: Alle Teilnehmenden sind verpflichtet, selbst für ausreichende Unfall- und Haftpflichtversicherung zu sorgen. 2. Fotografie und Videografie: Während der Veranstaltung werden Fotos und Videos durch den Veranstalter aufgenommen. Diese Aufnahmen können in Presseerzeugnissen, Medienberichten und online veröffentlicht werden. 3. Datenerfassung und -verwendung: Mit Ihrer Anmeldung erklären Sie sich einverstanden, dass relevante personenbezogene Daten elektronisch erfasst und gespeichert werden. Ebenso willigen Sie ein, dass das aufgenommene Bildmaterial gespeichert und veröffentlicht wird. 4. Stornierungsbedingungen: Bis 30. November 2026 (Meldeschluss): kostenlose Stornierung bzw. volle Erstattung Bis 20. Dezember 2026: 50 % der Teilnahmegebühr werden fällig bzw. erstattet Spätere Stornierung oder Nichterscheinen: 100 % der Teilnahmegebühr werden fällig, eine Erstattung erfolgt nicht. | G52: Please note the following important information: 1. Accident and Liability Insurance: All participants are responsible for arranging adequate accident and liability insurance themselves. 2. Photography and Videography: Photos and videos will be taken by the organizer during the event. These may be published in print, in media reports and online. 3. Data Collection and Use: By registering, you agree that relevant personal data will be collected and stored electronically. You also consent to the storage and publication of the photo and video material taken. 4. Cancellation Policy: Until 30 November 2026 (registration deadline): free cancellation or full refund Until 20 December 2026: 50% of the participation fee is due or refunded Later cancellation or no-show: 100% of the participation fee is due; no refund will be given.
B62: Mit dem Absenden dieser Anmeldung bestätige ich als Ansprechpartner/in, dass ich alle oben genannten Hinweise gelesen habe und sie im Namen aller gemeldeten Personen bzw. ihrer Erziehungsberechtigten akzeptiere.・By submitting this registration, I confirm as the contact person that I have read all of the information above and accept it on behalf of all registered persons or their legal guardians.

Sheet Import
A1: ID | B1: NAT | C1: LV | D1: CLUB | E1: CONTACT | F1: MAIL | G1: ADDRESS | H1: POST CODE | I1: CITY | J1: COUNTRY | K1: VAT | L1: LUNCH | M1: ACCOMPANIMENT
A2: =Meldeformular!L1 -> 0 | B2: =Meldeformular!E4 -> 0 | C2: =Meldeformular!G4 -> 0 | D2: =Meldeformular!B4 -> 0 | E2: =Meldeformular!I4 -> 0 | F2: =Meldeformular!B6 -> 0 | G2: =Meldeformular!B8 -> 0 | H2: =Meldeformular!E8 -> 0 | I2: =Meldeformular!G8 -> 0 | J2: =Meldeformular!K8 -> 0 | K2: =Meldeformular!I6 -> 0 | L2: =Meldeformular!K16 -> 0 | M2: =Meldeformular!D16 -> 0
A4: ID | B4: NAT | C4: LV | D4: CLUB | E4: FUN | F4: LAST NAME | G4: FIRST NAME | H4: YEAR | I4: F/M | J4: T1 | K4: T2 | L4: T3 | M4: T4 | N4: T5 | O4: T6 | P4: CODE
A5: =Meldeformular!L$1 -> 0 | B5: =Meldeformular!$B$4 -> 0 | C5: =Meldeformular!G$4 -> 0 | D5: =Meldeformular!B$4 -> 0 | E5: COA | F5: =Meldeformular!C12 -> 0 | G5: =Meldeformular!D12 -> 0
A6: =Meldeformular!L$1 -> 0 | B6: =Meldeformular!$B$4 -> 0 | C6: =Meldeformular!G$4 -> 0 | D6: =Meldeformular!B$4 -> 0 | E6: COA | F6: =Meldeformular!C13 -> 0 | G6: =Meldeformular!D13 -> 0
A7: =Meldeformular!L$1 -> 0 | B7: =Meldeformular!$B$4 -> 0 | C7: =Meldeformular!G$4 -> 0 | D7: =Meldeformular!B$4 -> 0 | E7: COA | F7: =Meldeformular!C14 -> 0 | G7: =Meldeformular!D14 -> 0
A8: =Meldeformular!L$1 -> 0 | B8: =Meldeformular!$B$4 -> 0 | C8: =Meldeformular!G$4 -> 0 | D8: =Meldeformular!B$4 -> 0 | E8: COA | F8: =Meldeformular!C15 -> 0 | G8: =Meldeformular!D15 -> 0
A9: =Meldeformular!L$1 -> 0 | B9: =Meldeformular!$B$4 -> 0 | C9: =Meldeformular!G$4 -> 0 | D9: =Meldeformular!B$4 -> 0 | E9: ATH | F9: =Meldeformular!C21 -> 0 | G9: =Meldeformular!D21 -> 0 | H9: =Meldeformular!E21 -> 0 | I9: =Meldeformular!F21 -> 0 | J9: =Meldeformular!G21 -> 0 | K9: =Meldeformular!H21 -> 0 | L9: =Meldeformular!I21 -> 0 | M9: =Meldeformular!J21 -> 0 | ... P9: =Meldeformular!M21 -> 0
A10: =Meldeformular!L$1 -> 0 | B10: =Meldeformular!$B$4 -> 0 | C10: =Meldeformular!G$4 -> 0 | D10: =Meldeformular!B$4 -> 0 | E10: ATH | F10: =Meldeformular!C22 -> 0 | G10: =Meldeformular!D22 -> 0 | H10: =Meldeformular!E22 -> 0 | I10: =Meldeformular!F22 -> 0 | J10: =Meldeformular!G22 -> 0 | K10: =Meldeformular!H22 -> 0 | L10: =Meldeformular!I22 -> 0 | M10: =Meldeformular!J22 -> 0 | ... P10: =Meldeformular!M22 -> 0
A11: =Meldeformular!L$1 -> 0 | B11: =Meldeformular!$B$4 -> 0 | C11: =Meldeformular!G$4 -> 0 | D11: =Meldeformular!B$4 -> 0 | E11: ATH | F11: =Meldeformular!C23 -> 0 | G11: =Meldeformular!D23 -> 0 | H11: =Meldeformular!E23 -> 0 | I11: =Meldeformular!F23 -> 0 | J11: =Meldeformular!G23 -> 0 | K11: =Meldeformular!H23 -> 0 | L11: =Meldeformular!I23 -> 0 | M11: =Meldeformular!J23 -> 0 | ... P11: =Meldeformular!M23 -> 0
A12: =Meldeformular!L$1 -> 0 | B12: =Meldeformular!$B$4 -> 0 | C12: =Meldeformular!G$4 -> 0 | D12: =Meldeformular!B$4 -> 0 | E12: ATH | F12: =Meldeformular!C24 -> 0 | G12: =Meldeformular!D24 -> 0 | H12: =Meldeformular!E24 -> 0 | I12: =Meldeformular!F24 -> 0 | J12: =Meldeformular!G24 -> 0 | K12: =Meldeformular!H24 -> 0 | L12: =Meldeformular!I24 -> 0 | M12: =Meldeformular!J24 -> 0 | ... P12: =Meldeformular!M24 -> 0
A13: =Meldeformular!L$1 -> 0 | B13: =Meldeformular!$B$4 -> 0 | C13: =Meldeformular!G$4 -> 0 | D13: =Meldeformular!B$4 -> 0 | E13: ATH | F13: =Meldeformular!C25 -> 0 | G13: =Meldeformular!D25 -> 0 | H13: =Meldeformular!E25 -> 0 | I13: =Meldeformular!F25 -> 0 | J13: =Meldeformular!G25 -> 0 | K13: =Meldeformular!H25 -> 0 | L13: =Meldeformular!I25 -> 0 | M13: =Meldeformular!J25 -> 0 | ... P13: =Meldeformular!M25 -> 0
A14: =Meldeformular!L$1 -> 0 | B14: =Meldeformular!$B$4 -> 0 | C14: =Meldeformular!G$4 -> 0 | D14: =Meldeformular!B$4 -> 0 | E14: ATH | F14: =Meldeformular!C26 -> 0 | G14: =Meldeformular!D26 -> 0 | H14: =Meldeformular!E26 -> 0 | I14: =Meldeformular!F26 -> 0 | J14: =Meldeformular!G26 -> 0 | K14: =Meldeformular!H26 -> 0 | L14: =Meldeformular!I26 -> 0 | M14: =Meldeformular!J26 -> 0 | ... P14: =Meldeformular!M26 -> 0
A15: =Meldeformular!L$1 -> 0 | B15: =Meldeformular!$B$4 -> 0 | C15: =Meldeformular!G$4 -> 0 | D15: =Meldeformular!B$4 -> 0 | E15: ATH | F15: =Meldeformular!C27 -> 0 | G15: =Meldeformular!D27 -> 0 | H15: =Meldeformular!E27 -> 0 | I15: =Meldeformular!F27 -> 0 | J15: =Meldeformular!G27 -> 0 | K15: =Meldeformular!H27 -> 0 | L15: =Meldeformular!I27 -> 0 | M15: =Meldeformular!J27 -> 0 | ... P15: =Meldeformular!M27 -> 0
A16: =Meldeformular!L$1 -> 0 | B16: =Meldeformular!$B$4 -> 0 | C16: =Meldeformular!G$4 -> 0 | D16: =Meldeformular!B$4 -> 0 | E16: ATH | F16: =Meldeformular!C28 -> 0 | G16: =Meldeformular!D28 -> 0 | H16: =Meldeformular!E28 -> 0 | I16: =Meldeformular!F28 -> 0 | J16: =Meldeformular!G28 -> 0 | K16: =Meldeformular!H28 -> 0 | L16: =Meldeformular!I28 -> 0 | M16: =Meldeformular!J28 -> 0 | ... P16: =Meldeformular!M28 -> 0
A17: =Meldeformular!L$1 -> 0 | B17: =Meldeformular!$B$4 -> 0 | C17: =Meldeformular!G$4 -> 0 | D17: =Meldeformular!B$4 -> 0 | E17: ATH | F17: =Meldeformular!C29 -> 0 | G17: =Meldeformular!D29 -> 0 | H17: =Meldeformular!E29 -> 0 | I17: =Meldeformular!F29 -> 0 | J17: =Meldeformular!G29 -> 0 | K17: =Meldeformular!H29 -> 0 | L17: =Meldeformular!I29 -> 0 | M17: =Meldeformular!J29 -> 0 | ... P17: =Meldeformular!M29 -> 0
A18: =Meldeformular!L$1 -> 0 | B18: =Meldeformular!$B$4 -> 0 | C18: =Meldeformular!G$4 -> 0 | D18: =Meldeformular!B$4 -> 0 | E18: ATH | F18: =Meldeformular!C30 -> 0 | G18: =Meldeformular!D30 -> 0 | H18: =Meldeformular!E30 -> 0 | I18: =Meldeformular!F30 -> 0 | J18: =Meldeformular!G30 -> 0 | K18: =Meldeformular!H30 -> 0 | L18: =Meldeformular!I30 -> 0 | M18: =Meldeformular!J30 -> 0 | ... P18: =Meldeformular!M30 -> 0
A19: =Meldeformular!L$1 -> 0 | B19: =Meldeformular!$B$4 -> 0 | C19: =Meldeformular!G$4 -> 0 | D19: =Meldeformular!B$4 -> 0 | E19: ATH | F19: =Meldeformular!C31 -> 0 | G19: =Meldeformular!D31 -> 0 | H19: =Meldeformular!E31 -> 0 | I19: =Meldeformular!F31 -> 0 | J19: =Meldeformular!G31 -> 0 | K19: =Meldeformular!H31 -> 0 | L19: =Meldeformular!I31 -> 0 | M19: =Meldeformular!J31 -> 0 | ... P19: =Meldeformular!M31 -> 0
A20: =Meldeformular!L$1 -> 0 | B20: =Meldeformular!$B$4 -> 0 | C20: =Meldeformular!G$4 -> 0 | D20: =Meldeformular!B$4 -> 0 | E20: ATH | F20: =Meldeformular!C32 -> 0 | G20: =Meldeformular!D32 -> 0 | H20: =Meldeformular!E32 -> 0 | I20: =Meldeformular!F32 -> 0 | J20: =Meldeformular!G32 -> 0 | K20: =Meldeformular!H32 -> 0 | L20: =Meldeformular!I32 -> 0 | M20: =Meldeformular!J32 -> 0 | ... P20: =Meldeformular!M32 -> 0
... A36: =Meldeformular!L$1 -> 0 | B36: =Meldeformular!$B$4 -> 0 | C36: =Meldeformular!G$4 -> 0 | D36: =Meldeformular!B$4 -> 0 | E36: ATH | F36: =Meldeformular!C48 -> 0 | G36: =Meldeformular!D48 -> 0 | H36: =Meldeformular!E48 -> 0 | I36: =Meldeformular!F48 -> 0 | J36: =Meldeformular!G48 -> 0 | K36: =Meldeformular!H48 -> 0 | L36: =Meldeformular!I48 -> 0 | M36: =Meldeformular!J48 -> 0 | ... P36: =Meldeformular!M48 -> 0
